BEGIN:VCALENDAR
VERSION:2.0
PRODID:-//Butser IX Legion - ECPv6.8.2.1//NONSGML v1.0//EN
CALSCALE:GREGORIAN
METHOD:PUBLISH
X-ORIGINAL-URL:https://butserlegion.co.uk
X-WR-CALDESC:Events for Butser IX Legion
REFRESH-INTERVAL;VALUE=DURATION:PT1H
X-Robots-Tag:noindex
X-PUBLISHED-TTL:PT1H
BEGIN:VTIMEZONE
TZID:Europe/Paris
BEGIN:DAYLIGHT
TZOFFSETFROM:+0100
TZOFFSETTO:+0200
TZNAME:CEST
DTSTART:20250330T010000
END:DAYLIGHT
BEGIN:STANDARD
TZOFFSETFROM:+0200
TZOFFSETTO:+0100
TZNAME:CET
DTSTART:20251026T010000
END:STANDARD
END:VTIMEZONE
BEGIN:VEVENT
DTSTART;TZID=Europe/Paris:20250419T110000
DTEND;TZID=Europe/Paris:20250419T110000
DTSTAMP:20260421T214231
CREATED:20250414T095703Z
LAST-MODIFIED:20250414T100506Z
UID:271-1745060400-1745060400@butserlegion.co.uk
SUMMARY:Meet the Celts
DESCRIPTION:Meet the Celts \nThe ninth legion have been invited to the Iron Age museum in Andover. \nWe have many members who represent the indigenous Celtic people of Britannia during the Roman period. Come to Andover to find out all about them! \n 
URL:https://butserlegion.co.uk/event/meet-the-celts/
LOCATION:Andover Iron Age Museum\, Andover Museum and Museum of the Iron Age\, Andover\, Hampshire\, SP101DP\, United Kingdom
END:VEVENT
END:VCALENDAR