BEGIN:VCALENDAR
VERSION:2.0
PRODID:-//Butser IX Legion - ECPv6.8.2.1//NONSGML v1.0//EN
CALSCALE:GREGORIAN
METHOD:PUBLISH
X-ORIGINAL-URL:https://butserlegion.co.uk
X-WR-CALDESC:Events for Butser IX Legion
REFRESH-INTERVAL;VALUE=DURATION:PT1H
X-Robots-Tag:noindex
X-PUBLISHED-TTL:PT1H
BEGIN:VTIMEZONE
TZID:UTC
BEGIN:STANDARD
TZOFFSETFROM:+0000
TZOFFSETTO:+0000
TZNAME:UTC
DTSTART:20250101T000000
END:STANDARD
END:VTIMEZONE
BEGIN:VEVENT
DTSTART;TZID=UTC:20250503T160000
DTEND;TZID=UTC:20250503T220000
DTSTAMP:20260421T201404
CREATED:20241220T090359Z
LAST-MODIFIED:20241220T090837Z
UID:220-1746288000-1746309600@butserlegion.co.uk
SUMMARY:Beltain
DESCRIPTION:Beltain \nThe annual Beltain festival is the highlight of the year at Butser Ancient farm\, celebrating the Celtic spring festival. The evening with a procession to a 40 foot high wicker man which is then set on fire – an event based on an account by Julius Caesar. Fancy dress is encouraged! \nBe aware that it sells out very quickly so  keep a look out for advance tickets.
URL:https://butserlegion.co.uk/event/beltain/
LOCATION:Butser Ancient Farm\, Butser Ancient Farm\, Chalton Lane\, Waterlooville\, HAMPSHIRE\, PO8 0BG\, United Kingdom
END:VEVENT
END:VCALENDAR