BEGIN:VCALENDAR
VERSION:2.0
PRODID:-//Butser IX Legion - ECPv6.8.2.1//NONSGML v1.0//EN
CALSCALE:GREGORIAN
METHOD:PUBLISH
X-WR-CALNAME:Butser IX Legion
X-ORIGINAL-URL:https://butserlegion.co.uk
X-WR-CALDESC:Events for Butser IX Legion
REFRESH-INTERVAL;VALUE=DURATION:PT1H
X-Robots-Tag:noindex
X-PUBLISHED-TTL:PT1H
BEGIN:VTIMEZONE
TZID:UTC
BEGIN:STANDARD
TZOFFSETFROM:+0000
TZOFFSETTO:+0000
TZNAME:UTC
DTSTART:20250101T000000
END:STANDARD
END:VTIMEZONE
BEGIN:VEVENT
DTSTART;TZID=UTC:20250727T100000
DTEND;TZID=UTC:20250727T160000
DTSTAMP:20260421T171049
CREATED:20241220T092544Z
LAST-MODIFIED:20241220T092545Z
UID:234-1753610400-1753632000@butserlegion.co.uk
SUMMARY:Legion at Butser Ancient Farm
DESCRIPTION:Legion at Butser Ancient Farm \nCome and see the mighty 9th Legion at Butser Ancient Farm!
URL:https://butserlegion.co.uk/event/legion-at-butser-ancient-farm-7/
LOCATION:Butser Ancient Farm\, Butser Ancient Farm\, Chalton Lane\, Waterlooville\, HAMPSHIRE\, PO8 0BG\, United Kingdom
END:VEVENT
END:VCALENDAR