BEGIN:VCALENDAR
VERSION:2.0
PRODID:-//Butser IX Legion - ECPv6.8.2.1//NONSGML v1.0//EN
CALSCALE:GREGORIAN
METHOD:PUBLISH
X-WR-CALNAME:Butser IX Legion
X-ORIGINAL-URL:https://butserlegion.co.uk
X-WR-CALDESC:Events for Butser IX Legion
REFRESH-INTERVAL;VALUE=DURATION:PT1H
X-Robots-Tag:noindex
X-PUBLISHED-TTL:PT1H
BEGIN:VTIMEZONE
TZID:UTC
BEGIN:STANDARD
TZOFFSETFROM:+0000
TZOFFSETTO:+0000
TZNAME:UTC
DTSTART:20250101T000000
END:STANDARD
END:VTIMEZONE
BEGIN:VEVENT
DTSTART;TZID=UTC:20250803T100000
DTEND;TZID=UTC:20250803T160000
DTSTAMP:20260421T153437
CREATED:20241220T093420Z
LAST-MODIFIED:20241220T093420Z
UID:243-1754215200-1754236800@butserlegion.co.uk
SUMMARY:VillaFest! 2025
DESCRIPTION:VillaFest! 2025 \nRockbourne Roman Villa
URL:https://butserlegion.co.uk/event/villafest-2025-2/
LOCATION:Rockbourne Roman Villa\, Rockbourne Roman Villa\, Rockbourne\, Fordingbridge\, SP63PG\, United Kingdom
END:VEVENT
END:VCALENDAR