BEGIN:VCALENDAR
VERSION:2.0
PRODID:-//Butser IX Legion - ECPv6.8.2.1//NONSGML v1.0//EN
CALSCALE:GREGORIAN
METHOD:PUBLISH
X-ORIGINAL-URL:https://butserlegion.co.uk
X-WR-CALDESC:Events for Butser IX Legion
REFRESH-INTERVAL;VALUE=DURATION:PT1H
X-Robots-Tag:noindex
X-PUBLISHED-TTL:PT1H
BEGIN:VTIMEZONE
TZID:UTC
BEGIN:STANDARD
TZOFFSETFROM:+0000
TZOFFSETTO:+0000
TZNAME:UTC
DTSTART:20250101T000000
END:STANDARD
END:VTIMEZONE
BEGIN:VEVENT
DTSTART;TZID=UTC:20250816T100000
DTEND;TZID=UTC:20250816T160000
DTSTAMP:20260421T153531
CREATED:20250425T122628Z
LAST-MODIFIED:20250425T122645Z
UID:279-1755338400-1755360000@butserlegion.co.uk
SUMMARY:Fishbourne Roman Palace
DESCRIPTION:The legion will be at Fishbourne Roman Palace
URL:https://butserlegion.co.uk/event/fishbourne-roman-palace/
LOCATION:Fishbourne Roman Villa\, Roman Way\, Chichester\, Hampshire\, PO193QR\, United Kingdom
END:VEVENT
END:VCALENDAR